BEGIN:VCALENDAR
VERSION:2.0
PRODID:-//Restoring the Mosaic - ECPv6.15.20//NONSGML v1.0//EN
CALSCALE:GREGORIAN
METHOD:PUBLISH
X-WR-CALNAME:Restoring the Mosaic
X-ORIGINAL-URL:https://restoringthemosaic.ca
X-WR-CALDESC:Events for Restoring the Mosaic
REFRESH-INTERVAL;VALUE=DURATION:PT1H
X-Robots-Tag:noindex
X-PUBLISHED-TTL:PT1H
BEGIN:VTIMEZONE
TZID:America/New_York
BEGIN:DAYLIGHT
TZOFFSETFROM:-0500
TZOFFSETTO:-0400
TZNAME:EDT
DTSTART:20240310T070000
END:DAYLIGHT
BEGIN:STANDARD
TZOFFSETFROM:-0400
TZOFFSETTO:-0500
TZNAME:EST
DTSTART:20241103T060000
END:STANDARD
BEGIN:DAYLIGHT
TZOFFSETFROM:-0500
TZOFFSETTO:-0400
TZNAME:EDT
DTSTART:20250309T070000
END:DAYLIGHT
BEGIN:STANDARD
TZOFFSETFROM:-0400
TZOFFSETTO:-0500
TZNAME:EST
DTSTART:20251102T060000
END:STANDARD
BEGIN:DAYLIGHT
TZOFFSETFROM:-0500
TZOFFSETTO:-0400
TZNAME:EDT
DTSTART:20260308T070000
END:DAYLIGHT
BEGIN:STANDARD
TZOFFSETFROM:-0400
TZOFFSETTO:-0500
TZNAME:EST
DTSTART:20261101T060000
END:STANDARD
END:VTIMEZONE
BEGIN:VEVENT
DTSTART;TZID=America/New_York:20250422T190000
DTEND;TZID=America/New_York:20250422T190000
DTSTAMP:20260423T235458
CREATED:20250409T200836Z
LAST-MODIFIED:20250409T200836Z
UID:225215-1745348400-1745348400@restoringthemosaic.ca
SUMMARY:All Candidates Meeting
DESCRIPTION:Join us for this informative session\, where all candidates will have the opportunity to present their platforms\, discuss key issues\, and answer questions. This event is a great chance to hear directly from Dr. Ann and the other candidates.
URL:https://restoringthemosaic.ca/event/all-candidates-meeting-3/
LOCATION:Durham Community Center and Arena\, 451 Saddler St W\, Durham\, Ontario\, N0G 1R0\, Canada
END:VEVENT
END:VCALENDAR